Workbook

Sheet Dashboard
B2: METRO HYPERLOCAL EXPRESS — RIDER OPERATIONS MIS COCKPIT Fleet Productivity, Attendance & Net Payout Reconciliation | Mumbai Operations Hub
B5: TOTAL NET PAYOUT | E5: TOTAL COMPLETED TRIPS | H5: AVG TRIPS / ACTIVE RIDER | K5: TOTAL BONUSES PAID | N5: FLEET ATTENDANCE RATE
B6: =MIS_Summary!M14 -> 382921.05 | E6: =MIS_Summary!D14 -> 3449 | H6: =MIS_Summary!N14 -> 10.88202 | K6: =MIS_Summary!H14 -> 41750 | N6: =MIS_Summary!K14 -> 0.88055556
B9: Weekly Performance Trend | G9: Zone Performance Breakdown | L9: Top 5 Riders by Payout
B10: Week | C10: Trips Completed | D10: Gross Earnings | E10: Avg Trips/Day | G10: Zone Hub | H10: Active Riders | I10: Total Trips | J10: Net Payout | L10: Rider ID | M10: Rider Name | N10: Trips | O10: Attendance | P10: Net Payout
B11: Week 1 | C11: =SUMIF(Raw_Data!$K:$K, "Week 1", Raw_Data!$D:$D) -> 644 | D11: =SUMPRODUCT((Raw_Data!$K$2:$K$361="Week 1")*(Raw_Data!$D$2:$D$361)*(Raw_Data!$F$2:$F$361)) -> 64665 | E11: =C11/(COUNTIFS(Raw_Data!$K:$K, "Week 1", Raw_Data!$I:$I, "Present")) -> 10.557377 | G11: Bandra West | H11: =COUNTIF(MIS_Summary!$C$2:$C$13, "Bandra West") -> 3 | I11: =SUMIF(MIS_Summary!$C$2:$C$13, "Bandra West", MIS_Summary!$D$2:$D$13) -> 871 | J11: =SUMIF(MIS_Summary!$C$2:$C$13, "Bandra West", MIS_Summary!$M$2:$M$13) -> 97690.06 | L11: =MIS_Summary!A2 -> RID101 | M11: =MIS_Summary!B2 -> Arjun Sharma | N11: =MIS_Summary!D2 -> 327 | O11: =MIS_Summary!K2 -> 0.96666667 | P11: =MIS_Summary!M2 -> 36266.48
B12: Week 2 | C12: =SUMIF(Raw_Data!$K:$K, "Week 2", Raw_Data!$D:$D) -> 641 | D12: =SUMPRODUCT((Raw_Data!$K$2:$K$361="Week 2")*(Raw_Data!$D$2:$D$361)*(Raw_Data!$F$2:$F$361)) -> 64270 | E12: =C12/(COUNTIFS(Raw_Data!$K:$K, "Week 2", Raw_Data!$I:$I, "Present")) -> 10.174603 | G12: Andheri East | H12: =COUNTIF(MIS_Summary!$C$2:$C$13, "Andheri East") -> 3 | I12: =SUMIF(MIS_Summary!$C$2:$C$13, "Andheri East", MIS_Summary!$D$2:$D$13) -> 857 | J12: =SUMIF(MIS_Summary!$C$2:$C$13, "Andheri East", MIS_Summary!$M$2:$M$13) -> 94611.56 | L12: =MIS_Summary!A3 -> RID102 | M12: =MIS_Summary!B3 -> Pradeep Shinde | N12: =MIS_Summary!D3 -> 273 | O12: =MIS_Summary!K3 -> 0.8 | P12: =MIS_Summary!M3 -> 30143.48
B13: Week 3 | C13: =SUMIF(Raw_Data!$K:$K, "Week 3", Raw_Data!$D:$D) -> 752 | D13: =SUMPRODUCT((Raw_Data!$K$2:$K$361="Week 3")*(Raw_Data!$D$2:$D$361)*(Raw_Data!$F$2:$F$361)) -> 74150 | E13: =C13/(COUNTIFS(Raw_Data!$K:$K, "Week 3", Raw_Data!$I:$I, "Present")) -> 11.223881 | G13: Powai Tech-Hub | H13: =COUNTIF(MIS_Summary!$C$2:$C$13, "Powai Tech-Hub") -> 3 | I13: =SUMIF(MIS_Summary!$C$2:$C$13, "Powai Tech-Hub", MIS_Summary!$D$2:$D$13) -> 880 | J13: =SUMIF(MIS_Summary!$C$2:$C$13, "Powai Tech-Hub", MIS_Summary!$M$2:$M$13) -> 95927.09 | L13: =MIS_Summary!A4 -> RID103 | M13: =MIS_Summary!B4 -> Siddharth Rao | N13: =MIS_Summary!D4 -> 302 | O13: =MIS_Summary!K4 -> 0.93333333 | P13: =MIS_Summary!M4 -> 33151.95
B14: Week 4 | C14: =SUMIF(Raw_Data!$K:$K, "Week 4", Raw_Data!$D:$D) -> 717 | D14: =SUMPRODUCT((Raw_Data!$K$2:$K$361="Week 4")*(Raw_Data!$D$2:$D$361)*(Raw_Data!$F$2:$F$361)) -> 71660 | E14: =C14/(COUNTIFS(Raw_Data!$K:$K, "Week 4", Raw_Data!$I:$I, "Present")) -> 11.203125 | G14: South Mumbai | H14: =COUNTIF(MIS_Summary!$C$2:$C$13, "South Mumbai") -> 3 | I14: =SUMIF(MIS_Summary!$C$2:$C$13, "South Mumbai", MIS_Summary!$D$2:$D$13) -> 841 | J14: =SUMIF(MIS_Summary!$C$2:$C$13, "South Mumbai", MIS_Summary!$M$2:$M$13) -> 94692.34 | L14: =MIS_Summary!A5 -> RID104 | M14: =MIS_Summary!B5 -> Nikhil Kadam | N14: =MIS_Summary!D5 -> 272 | O14: =MIS_Summary!K5 -> 0.83333333 | P14: =MIS_Summary!M5 -> 31071.22
B15: Week 5 | C15: =SUMIF(Raw_Data!$K:$K, "Week 5", Raw_Data!$D:$D) -> 695 | D15: =SUMPRODUCT((Raw_Data!$K$2:$K$361="Week 5")*(Raw_Data!$D$2:$D$361)*(Raw_Data!$F$2:$F$361)) -> 69485 | E15: =C15/(COUNTIFS(Raw_Data!$K:$K, "Week 5", Raw_Data!$I:$I, "Present")) -> 11.209677 | G15: Total | H15: =SUM(H11:H14) -> 12 | I15: =SUM(I11:I14) -> 3449 | J15: =SUM(J11:J14) -> 382921.05 | L15: =MIS_Summary!A6 -> RID105 | M15: =MIS_Summary!B6 -> Vikram Patil | N15: =MIS_Summary!D6 -> 288 | O15: =MIS_Summary!K6 -> 0.86666667 | P15: =MIS_Summary!M6 -> 32303.93
B16: Total | C16: =SUM(C11:C15) -> 3449 | D16: =SUM(D11:D15) -> 344230 | E16: =AVERAGE(E11:E15) -> 10.873733

Sheet Raw_Data
A1: Rider_ID | B1: Rider_Name | C1: Date | D1: Trips_Completed | E1: Distance_KM | F1: Base_Payout_Per_Trip | G1: Bonus_Eligible (Y/N) | H1: Deductions | I1: Attendance(Present/Absent) | J1: Zone | K1: Week
A2: RID101 | B2: Arjun Sharma | C2: 46143 | D2: 6 | E2: 29.4 | F2: 90 | G2: N | H2: 55.24 | I2: Present | J2: Bandra West | K2: Week 1
A3: RID102 | B3: Pradeep Shinde | C3: 46143 | D3: 14 | E3: 47.6 | F3: 100 | G3: Y | H3: 7.03 | I3: Present | J3: Andheri East | K3: Week 1
A4: RID103 | B4: Siddharth Rao | C4: 46143 | D4: 15 | E4: 48.9 | F4: 90 | G4: Y | H4: 0 | I4: Present | J4: Powai Tech-Hub | K4: Week 1
A5: RID104 | B5: Nikhil Kadam | C5: 46143 | D5: 12 | E5: 44.5 | F5: 110 | G5: Y | H5: 0 | I5: Present | J5: South Mumbai | K5: Week 1
A6: RID105 | B6: Vikram Patil | C6: 46143 | D6: 8 | E6: 38.4 | F6: 95 | G6: N | H6: 0 | I6: Present | J6: Bandra West | K6: Week 1
A7: RID106 | B7: Rohan Mane | C7: 46143 | D7: 11 | E7: 37.8 | F7: 100 | G7: Y | H7: 63.56 | I7: Present | J7: Andheri East | K7: Week 1
A8: RID107 | B8: Ganesh Jadhav | C8: 46143 | D8: 6 | E8: 29.3 | F8: 110 | G8: N | H8: 69.17 | I8: Present | J8: Powai Tech-Hub | K8: Week 1
A9: RID108 | B9: Sachin More | C9: 46143 | D9: 10 | E9: 51.1 | F9: 110 | G9: N | H9: 0 | I9: Present | J9: South Mumbai | K9: Week 1
A10: RID109 | B10: Aditya Deshmukh | C10: 46143 | D10: 9 | E10: 43.4 | F10: 85 | G10: N | H10: 0 | I10: Present | J10: Bandra West | K10: Week 1
A11: RID110 | B11: Rahul Sawant | C11: 46143 | D11: 7 | E11: 36.2 | F11: 85 | G11: N | H11: 0 | I11: Present | J11: Andheri East | K11: Week 1
A12: RID111 | B12: Sameer Shaikh | C12: 46143 | D12: 11 | E12: 39.3 | F12: 95 | G12: Y | H12: 20.02 | I12: Present | J12: Powai Tech-Hub | K12: Week 1
A13: RID112 | B13: Omkar Bhosale | C13: 46143 | D13: 0 | E13: 0 | F13: 0 | G13: N | H13: 0 | I13: Absent | J13: South Mumbai | K13: Week 1
... A361: RID112 | B361: Omkar Bhosale | C361: 46176 | D361: 7 | E361: 31.6 | F361: 110 | G361: N | H361: 0 | I361: Present | J361: South Mumbai | K361: Week 5

Sheet MIS_Summary
A1: Rider_ID | B1: Rider_Name | C1: Primary_Zone | D1: Total_Trips | E1: Total_Distance_KM | F1: Gross_Earnings | G1: Bonus_Count | H1: Bonus_Payout | I1: Days_Present | J1: Days_Logged | K1: Attendance_Rate | L1: Deduction_Total | M1: Net_Payout | N1: Avg_Trips_Per_Day | O1: Max_Trips_Day | P1: Bonus_Eligibility_Rate
A2: RID101 | B2: =_xlfn.XLOOKUP(A2, Raw_Data!A:A, Raw_Data!B:B) -> Arjun Sharma | C2: =_xlfn.XLOOKUP(A2, Raw_Data!A:A, Raw_Data!J:J) -> Bandra West | D2: =SUMIF(Raw_Data!A:A, A2, Raw_Data!D:D) -> 327 | E2: =SUMIF(Raw_Data!A:A, A2, Raw_Data!E:E) -> 1434 | F2: =SUMPRODUCT((Raw_Data!$A$2:$A$361=A2)*(Raw_Data!$D$2:$D$361)*(Raw_Data!$F$2:$F$361)) -> 32210 | G2: =COUNTIFS(Raw_Data!A:A, A2, Raw_Data!G:G, "Y") -> 17 | H2: =G2*250 -> 4250 | I2: =COUNTIFS(Raw_Data!A:A, A2, Raw_Data!I:I, "Present") -> 29 | J2: =COUNTIF(Raw_Data!A:A, A2) -> 30 | K2: =I2/J2 -> 0.96666667 | L2: =SUMIF(Raw_Data!A:A, A2, Raw_Data!H:H) -> 193.52 | M2: =F2+H2-L2 -> 36266.48 | N2: =IFERROR(D2/I2, 0) -> 11.275862 | O2: =_xlfn.MAXIFS(Raw_Data!D:D, Raw_Data!A:A, A2) -> 16 | P2: =G2/J2 -> 0.56666667
A3: RID102 | B3: =_xlfn.XLOOKUP(A3, Raw_Data!A:A, Raw_Data!B:B) -> Pradeep Shinde | C3: =_xlfn.XLOOKUP(A3, Raw_Data!A:A, Raw_Data!J:J) -> Andheri East | D3: =SUMIF(Raw_Data!A:A, A3, Raw_Data!D:D) -> 273 | E3: =SUMIF(Raw_Data!A:A, A3, Raw_Data!E:E) -> 1146 | F3: =SUMPRODUCT((Raw_Data!$A$2:$A$361=A3)*(Raw_Data!$D$2:$D$361)*(Raw_Data!$F$2:$F$361)) -> 26890 | G3: =COUNTIFS(Raw_Data!A:A, A3, Raw_Data!G:G, "Y") -> 14 | H3: =G3*250 -> 3500 | I3: =COUNTIFS(Raw_Data!A:A, A3, Raw_Data!I:I, "Present") -> 24 | J3: =COUNTIF(Raw_Data!A:A, A3) -> 30 | K3: =I3/J3 -> 0.8 | L3: =SUMIF(Raw_Data!A:A, A3, Raw_Data!H:H) -> 246.52 | M3: =F3+H3-L3 -> 30143.48 | N3: =IFERROR(D3/I3, 0) -> 11.375 | O3: =_xlfn.MAXIFS(Raw_Data!D:D, Raw_Data!A:A, A3) -> 16 | P3: =G3/J3 -> 0.46666667
A4: RID103 | B4: =_xlfn.XLOOKUP(A4, Raw_Data!A:A, Raw_Data!B:B) -> Siddharth Rao | C4: =_xlfn.XLOOKUP(A4, Raw_Data!A:A, Raw_Data!J:J) -> Powai Tech-Hub | D4: =SUMIF(Raw_Data!A:A, A4, Raw_Data!D:D) -> 302 | E4: =SUMIF(Raw_Data!A:A, A4, Raw_Data!E:E) -> 1331.3 | F4: =SUMPRODUCT((Raw_Data!$A$2:$A$361=A4)*(Raw_Data!$D$2:$D$361)*(Raw_Data!$F$2:$F$361)) -> 29775 | G4: =COUNTIFS(Raw_Data!A:A, A4, Raw_Data!G:G, "Y") -> 15 | H4: =G4*250 -> 3750 | I4: =COUNTIFS(Raw_Data!A:A, A4, Raw_Data!I:I, "Present") -> 28 | J4: =COUNTIF(Raw_Data!A:A, A4) -> 30 | K4: =I4/J4 -> 0.93333333 | L4: =SUMIF(Raw_Data!A:A, A4, Raw_Data!H:H) -> 373.05 | M4: =F4+H4-L4 -> 33151.95 | N4: =IFERROR(D4/I4, 0) -> 10.785714 | O4: =_xlfn.MAXIFS(Raw_Data!D:D, Raw_Data!A:A, A4) -> 16 | P4: =G4/J4 -> 0.5
A5: RID104 | B5: =_xlfn.XLOOKUP(A5, Raw_Data!A:A, Raw_Data!B:B) -> Nikhil Kadam | C5: =_xlfn.XLOOKUP(A5, Raw_Data!A:A, Raw_Data!J:J) -> South Mumbai | D5: =SUMIF(Raw_Data!A:A, A5, Raw_Data!D:D) -> 272 | E5: =SUMIF(Raw_Data!A:A, A5, Raw_Data!E:E) -> 1161.7 | F5: =SUMPRODUCT((Raw_Data!$A$2:$A$361=A5)*(Raw_Data!$D$2:$D$361)*(Raw_Data!$F$2:$F$361)) -> 27725 | G5: =COUNTIFS(Raw_Data!A:A, A5, Raw_Data!G:G, "Y") -> 14 | H5: =G5*250 -> 3500 | I5: =COUNTIFS(Raw_Data!A:A, A5, Raw_Data!I:I, "Present") -> 25 | J5: =COUNTIF(Raw_Data!A:A, A5) -> 30 | K5: =I5/J5 -> 0.83333333 | L5: =SUMIF(Raw_Data!A:A, A5, Raw_Data!H:H) -> 153.78 | M5: =F5+H5-L5 -> 31071.22 | N5: =IFERROR(D5/I5, 0) -> 10.88 | O5: =_xlfn.MAXIFS(Raw_Data!D:D, Raw_Data!A:A, A5) -> 16 | P5: =G5/J5 -> 0.46666667
A6: RID105 | B6: =_xlfn.XLOOKUP(A6, Raw_Data!A:A, Raw_Data!B:B) -> Vikram Patil | C6: =_xlfn.XLOOKUP(A6, Raw_Data!A:A, Raw_Data!J:J) -> Bandra West | D6: =SUMIF(Raw_Data!A:A, A6, Raw_Data!D:D) -> 288 | E6: =SUMIF(Raw_Data!A:A, A6, Raw_Data!E:E) -> 1298.3 | F6: =SUMPRODUCT((Raw_Data!$A$2:$A$361=A6)*(Raw_Data!$D$2:$D$361)*(Raw_Data!$F$2:$F$361)) -> 29325 | G6: =COUNTIFS(Raw_Data!A:A, A6, Raw_Data!G:G, "Y") -> 13 | H6: =G6*250 -> 3250 | I6: =COUNTIFS(Raw_Data!A:A, A6, Raw_Data!I:I, "Present") -> 26 | J6: =COUNTIF(Raw_Data!A:A, A6) -> 30 | K6: =I6/J6 -> 0.86666667 | L6: =SUMIF(Raw_Data!A:A, A6, Raw_Data!H:H) -> 271.07 | M6: =F6+H6-L6 -> 32303.93 | N6: =IFERROR(D6/I6, 0) -> 11.076923 | O6: =_xlfn.MAXIFS(Raw_Data!D:D, Raw_Data!A:A, A6) -> 16 | P6: =G6/J6 -> 0.43333333
A7: RID106 | B7: =_xlfn.XLOOKUP(A7, Raw_Data!A:A, Raw_Data!B:B) -> Rohan Mane | C7: =_xlfn.XLOOKUP(A7, Raw_Data!A:A, Raw_Data!J:J) -> Andheri East | D7: =SUMIF(Raw_Data!A:A, A7, Raw_Data!D:D) -> 275 | E7: =SUMIF(Raw_Data!A:A, A7, Raw_Data!E:E) -> 1233.8 | F7: =SUMPRODUCT((Raw_Data!$A$2:$A$361=A7)*(Raw_Data!$D$2:$D$361)*(Raw_Data!$F$2:$F$361)) -> 27100 | G7: =COUNTIFS(Raw_Data!A:A, A7, Raw_Data!G:G, "Y") -> 13 | H7: =G7*250 -> 3250 | I7: =COUNTIFS(Raw_Data!A:A, A7, Raw_Data!I:I, "Present") -> 26 | J7: =COUNTIF(Raw_Data!A:A, A7) -> 30 | K7: =I7/J7 -> 0.86666667 | L7: =SUMIF(Raw_Data!A:A, A7, Raw_Data!H:H) -> 276.13 | M7: =F7+H7-L7 -> 30073.87 | N7: =IFERROR(D7/I7, 0) -> 10.576923 | O7: =_xlfn.MAXIFS(Raw_Data!D:D, Raw_Data!A:A, A7) -> 16 | P7: =G7/J7 -> 0.43333333
A8: RID107 | B8: =_xlfn.XLOOKUP(A8, Raw_Data!A:A, Raw_Data!B:B) -> Ganesh Jadhav | C8: =_xlfn.XLOOKUP(A8, Raw_Data!A:A, Raw_Data!J:J) -> Powai Tech-Hub | D8: =SUMIF(Raw_Data!A:A, A8, Raw_Data!D:D) -> 304 | E8: =SUMIF(Raw_Data!A:A, A8, Raw_Data!E:E) -> 1304.5 | F8: =SUMPRODUCT((Raw_Data!$A$2:$A$361=A8)*(Raw_Data!$D$2:$D$361)*(Raw_Data!$F$2:$F$361)) -> 30005 | G8: =COUNTIFS(Raw_Data!A:A, A8, Raw_Data!G:G, "Y") -> 13 | H8: =G8*250 -> 3250 | I8: =COUNTIFS(Raw_Data!A:A, A8, Raw_Data!I:I, "Present") -> 29 | J8: =COUNTIF(Raw_Data!A:A, A8) -> 30 | K8: =I8/J8 -> 0.96666667 | L8: =SUMIF(Raw_Data!A:A, A8, Raw_Data!H:H) -> 302.76 | M8: =F8+H8-L8 -> 32952.24 | N8: =IFERROR(D8/I8, 0) -> 10.482759 | O8: =_xlfn.MAXIFS(Raw_Data!D:D, Raw_Data!A:A, A8) -> 16 | P8: =G8/J8 -> 0.43333333
A9: RID108 | B9: =_xlfn.XLOOKUP(A9, Raw_Data!A:A, Raw_Data!B:B) -> Sachin More | C9: =_xlfn.XLOOKUP(A9, Raw_Data!A:A, Raw_Data!J:J) -> South Mumbai | D9: =SUMIF(Raw_Data!A:A, A9, Raw_Data!D:D) -> 286 | E9: =SUMIF(Raw_Data!A:A, A9, Raw_Data!E:E) -> 1248.8 | F9: =SUMPRODUCT((Raw_Data!$A$2:$A$361=A9)*(Raw_Data!$D$2:$D$361)*(Raw_Data!$F$2:$F$361)) -> 28740 | G9: =COUNTIFS(Raw_Data!A:A, A9, Raw_Data!G:G, "Y") -> 15 | H9: =G9*250 -> 3750 | I9: =COUNTIFS(Raw_Data!A:A, A9, Raw_Data!I:I, "Present") -> 26 | J9: =COUNTIF(Raw_Data!A:A, A9) -> 30 | K9: =I9/J9 -> 0.86666667 | L9: =SUMIF(Raw_Data!A:A, A9, Raw_Data!H:H) -> 312.77 | M9: =F9+H9-L9 -> 32177.23 | N9: =IFERROR(D9/I9, 0) -> 11 | O9: =_xlfn.MAXIFS(Raw_Data!D:D, Raw_Data!A:A, A9) -> 16 | P9: =G9/J9 -> 0.5
A10: RID109 | B10: =_xlfn.XLOOKUP(A10, Raw_Data!A:A, Raw_Data!B:B) -> Aditya Deshmukh | C10: =_xlfn.XLOOKUP(A10, Raw_Data!A:A, Raw_Data!J:J) -> Bandra West | D10: =SUMIF(Raw_Data!A:A, A10, Raw_Data!D:D) -> 256 | E10: =SUMIF(Raw_Data!A:A, A10, Raw_Data!E:E) -> 1024.3 | F10: =SUMPRODUCT((Raw_Data!$A$2:$A$361=A10)*(Raw_Data!$D$2:$D$361)*(Raw_Data!$F$2:$F$361)) -> 26775 | G10: =COUNTIFS(Raw_Data!A:A, A10, Raw_Data!G:G, "Y") -> 10 | H10: =G10*250 -> 2500 | I10: =COUNTIFS(Raw_Data!A:A, A10, Raw_Data!I:I, "Present") -> 24 | J10: =COUNTIF(Raw_Data!A:A, A10) -> 30 | K10: =I10/J10 -> 0.8 | L10: =SUMIF(Raw_Data!A:A, A10, Raw_Data!H:H) -> 155.35 | M10: =F10+H10-L10 -> 29119.65 | N10: =IFERROR(D10/I10, 0) -> 10.666667 | O10: =_xlfn.MAXIFS(Raw_Data!D:D, Raw_Data!A:A, A10) -> 16 | P10: =G10/J10 -> 0.33333333
A11: RID110 | B11: =_xlfn.XLOOKUP(A11, Raw_Data!A:A, Raw_Data!B:B) -> Rahul Sawant | C11: =_xlfn.XLOOKUP(A11, Raw_Data!A:A, Raw_Data!J:J) -> Andheri East | D11: =SUMIF(Raw_Data!A:A, A11, Raw_Data!D:D) -> 309 | E11: =SUMIF(Raw_Data!A:A, A11, Raw_Data!E:E) -> 1410.7 | F11: =SUMPRODUCT((Raw_Data!$A$2:$A$361=A11)*(Raw_Data!$D$2:$D$361)*(Raw_Data!$F$2:$F$361)) -> 30410 | G11: =COUNTIFS(Raw_Data!A:A, A11, Raw_Data!G:G, "Y") -> 17 | H11: =G11*250 -> 4250 | I11: =COUNTIFS(Raw_Data!A:A, A11, Raw_Data!I:I, "Present") -> 27 | J11: =COUNTIF(Raw_Data!A:A, A11) -> 30 | K11: =I11/J11 -> 0.9 | L11: =SUMIF(Raw_Data!A:A, A11, Raw_Data!H:H) -> 265.79 | M11: =F11+H11-L11 -> 34394.21 | N11: =IFERROR(D11/I11, 0) -> 11.444444 | O11: =_xlfn.MAXIFS(Raw_Data!D:D, Raw_Data!A:A, A11) -> 16 | P11: =G11/J11 -> 0.56666667
A12: RID111 | B12: =_xlfn.XLOOKUP(A12, Raw_Data!A:A, Raw_Data!B:B) -> Sameer Shaikh | C12: =_xlfn.XLOOKUP(A12, Raw_Data!A:A, Raw_Data!J:J) -> Powai Tech-Hub | D12: =SUMIF(Raw_Data!A:A, A12, Raw_Data!D:D) -> 274 | E12: =SUMIF(Raw_Data!A:A, A12, Raw_Data!E:E) -> 1282.4 | F12: =SUMPRODUCT((Raw_Data!$A$2:$A$361=A12)*(Raw_Data!$D$2:$D$361)*(Raw_Data!$F$2:$F$361)) -> 26820 | G12: =COUNTIFS(Raw_Data!A:A, A12, Raw_Data!G:G, "Y") -> 13 | H12: =G12*250 -> 3250 | I12: =COUNTIFS(Raw_Data!A:A, A12, Raw_Data!I:I, "Present") -> 26 | J12: =COUNTIF(Raw_Data!A:A, A12) -> 30 | K12: =I12/J12 -> 0.86666667 | L12: =SUMIF(Raw_Data!A:A, A12, Raw_Data!H:H) -> 247.1 | M12: =F12+H12-L12 -> 29822.9 | N12: =IFERROR(D12/I12, 0) -> 10.538462 | O12: =_xlfn.MAXIFS(Raw_Data!D:D, Raw_Data!A:A, A12) -> 16 | P12: =G12/J12 -> 0.43333333
A13: RID112 | B13: =_xlfn.XLOOKUP(A13, Raw_Data!A:A, Raw_Data!B:B) -> Omkar Bhosale | C13: =_xlfn.XLOOKUP(A13, Raw_Data!A:A, Raw_Data!J:J) -> South Mumbai | D13: =SUMIF(Raw_Data!A:A, A13, Raw_Data!D:D) -> 283 | E13: =SUMIF(Raw_Data!A:A, A13, Raw_Data!E:E) -> 1206.4 | F13: =SUMPRODUCT((Raw_Data!$A$2:$A$361=A13)*(Raw_Data!$D$2:$D$361)*(Raw_Data!$F$2:$F$361)) -> 28455 | G13: =COUNTIFS(Raw_Data!A:A, A13, Raw_Data!G:G, "Y") -> 13 | H13: =G13*250 -> 3250 | I13: =COUNTIFS(Raw_Data!A:A, A13, Raw_Data!I:I, "Present") -> 27 | J13: =COUNTIF(Raw_Data!A:A, A13) -> 30 | K13: =I13/J13 -> 0.9 | L13: =SUMIF(Raw_Data!A:A, A13, Raw_Data!H:H) -> 261.11 | M13: =F13+H13-L13 -> 31443.89 | N13: =IFERROR(D13/I13, 0) -> 10.481481 | O13: =_xlfn.MAXIFS(Raw_Data!D:D, Raw_Data!A:A, A13) -> 16 | P13: =G13/J13 -> 0.43333333
A14: GRAND TOTAL | D14: =SUM(D2:D13) -> 3449 | E14: =SUM(E2:E13) -> 15082.2 | F14: =SUM(F2:F13) -> 344230 | G14: =SUM(G2:G13) -> 167 | H14: =SUM(H2:H13) -> 41750 | K14: =AVERAGE(K2:K13) -> 0.88055556 | L14: =SUM(L2:L13) -> 3058.95 | M14: =SUM(M2:M13) -> 382921.05 | N14: =AVERAGE(N2:N13) -> 10.88202

Sheet AI_Insights_&_Formulas
A1: Metric / Output | B1: Excel Formula Syntax | C1: Formula Type | D1: Business Purpose & Operational Meaning
A2: Rider Name & Zone Lookup | B2: =_xludf.XLOOKUP(A2, Raw_Data!A:A, Raw_Data!B:B) -> #NAME? | C2: Dynamic Lookup (XLOOKUP) | D2: Automatically resolves the rider full name from transactional logs without hardcoding. Replaces legacy VLOOKUP with left-lookup capability.
A3: Total Completed Trips | B3: =SUMIF(Raw_Data!A:A, A2, Raw_Data!D:D) -> 0 | C3: Conditional Summation (SUMIF) | D3: Aggregates all daily completed trip entries for the specified Rider ID across the entire 5-week reporting period.
A4: Gross Trip Earnings | B4: =SUMPRODUCT((Raw_Data!A$2:A$100=A2)*(Raw_Data!D$2:D$100)*(Raw_Data!F$2:F$100)) -> 0 | C4: Matrix Multiplication (SUMPRODUCT) | D4: Multiplies daily completed trips by the individual rate per trip for matching rider records and calculates cumulative gross earnings before deductions.
A5: Performance Bonus Count | B5: =COUNTIFS(Raw_Data!A:A, A2, Raw_Data!G:G, "Y") -> 0 | C5: Multi-Condition Count (COUNTIFS) | D5: Counts the number of operating shifts where the rider completed threshold trips (11+ orders) to qualify for the ₹250 daily efficiency incentive.
A6: Attendance Reliability Rate | B6: =COUNTIFS(Raw_Data!A:A, A2, Raw_Data!I:I, "Present") / COUNTIF(Raw_Data!A:A, A2) -> #DIV/0! | C6: Proportional Ratio (COUNTIFS / COUNTIF) | D6: Calculates active shift compliance by dividing days marked Present by total scheduled working days. Critical for identifying fleet absenteeism.
A7: Net Final Payout | B7: =Gross_Earnings + Bonus_Payout - Deductions -> #NAME? | C7: Mathematical Reconciliation | D7: Calculates the net disbursement amount payable to each rider after adjusting for daily performance bonuses and traffic/spillage deductions.
A8: Max Single-Day Trips | B8: =_xludf.MAXIFS(Raw_Data!D:D, Raw_Data!A:A, A2) -> #NAME? | C8: Conditional Extremum (MAXIFS) | D8: Identifies the single peak operational shift output achieved by the rider during peak weekend or monsoon demand spikes.
A9: Average Daily Trips | B9: =IFERROR(Total_Trips / Days_Present, 0) -> 0 | C9: Safe Division (IFERROR) | D9: Measures real shift productivity by dividing total completed orders by active working days only, avoiding skew from approved off-days.
